BEGIN:VCALENDAR
VERSION:2.0
PRODID:icalendar-ruby
CALSCALE:GREGORIAN
BEGIN:VEVENT
DTSTAMP:20260419T130906Z
UID:d3bb7360-9a3f-4184-b8b3-f92f6a9d2d02
DTSTART;TZID=Pacific/Auckland:20260418T123000
DTEND;TZID=Pacific/Auckland:20260418T130000
DESCRIPTION:Property ID# 606007
SUMMARY:Openhome for 39A Imlay Crescent
END:VEVENT
END:VCALENDAR
