BEGIN:VCALENDAR
VERSION:2.0
PRODID:icalendar-ruby
CALSCALE:GREGORIAN
BEGIN:VEVENT
DTSTAMP:20260419T130907Z
UID:3bbe566c-0406-4a24-bf0e-11aac2bb9c95
DTSTART;TZID=Pacific/Auckland:20260418T133000
DTEND;TZID=Pacific/Auckland:20260418T140000
DESCRIPTION:Property ID# 606497
SUMMARY:Openhome for 502/120 Victoria Street
END:VEVENT
END:VCALENDAR
