BEGIN:VCALENDAR
VERSION:2.0
PRODID:icalendar-ruby
CALSCALE:GREGORIAN
BEGIN:VEVENT
DTSTAMP:20260421T103841Z
UID:5d3bbc2f-887f-4a14-9400-2eaefddf7384
DTSTART;VALUE=DATE:20260430
DESCRIPTION:Property ID# 606495\, Locatoin: 8 Kent Terrace\, Wellington\, T
 ime: 12:00PM
SUMMARY:Auction for 5 Governor Road
END:VEVENT
END:VCALENDAR
