BEGIN:VCALENDAR
VERSION:2.0
PRODID:icalendar-ruby
CALSCALE:GREGORIAN
BEGIN:VEVENT
DTSTAMP:20260422T171430Z
UID:851a238e-3d85-4a57-b666-e2240ec845ae
DTSTART;VALUE=DATE:20260331
DESCRIPTION:Property ID# 604817\, Locatoin: 8 Kent Terrace\, Wellington\, T
 ime: 12:00PM
SUMMARY:Auction for 
END:VEVENT
END:VCALENDAR
