BEGIN:VCALENDAR
VERSION:2.0
PRODID:icalendar-ruby
CALSCALE:GREGORIAN
BEGIN:VEVENT
DTSTAMP:20260422T171528Z
UID:46f2a8b3-5e79-455d-a765-de40d20c9b79
DTSTART;VALUE=DATE:20260326
DESCRIPTION:Property ID# 604719\, Locatoin: 8 Kent Terrace\, Wellington\, T
 ime: 12:00PM
SUMMARY:Auction for 
END:VEVENT
END:VCALENDAR
