BEGIN:VCALENDAR
VERSION:2.0
PRODID:icalendar-ruby
CALSCALE:GREGORIAN
BEGIN:VEVENT
DTSTAMP:20260421T103532Z
UID:4ce14cd8-c056-40e4-9794-1dd69ca382d4
DTSTART;VALUE=DATE:20260319
DESCRIPTION:Property ID# 604429\, Locatoin: 136 Karori Road.\, Time: 12:00P
 M
SUMMARY:Auction for 
END:VEVENT
END:VCALENDAR
