BEGIN:VCALENDAR
VERSION:2.0
PRODID:icalendar-ruby
CALSCALE:GREGORIAN
BEGIN:VEVENT
DTSTAMP:20260422T185957Z
UID:efbae673-7ca2-4fdd-8622-d3952cc4f2c0
DTSTART;VALUE=DATE:20251119
DESCRIPTION:Property ID# 599844\, Locatoin: 21 Ganges Road\, Khandallah\, T
 ime: 12:00PM
SUMMARY:Auction for 
END:VEVENT
END:VCALENDAR
