BEGIN:VCALENDAR
VERSION:2.0
PRODID:icalendar-ruby
CALSCALE:GREGORIAN
BEGIN:VEVENT
DTSTAMP:20260421T103744Z
UID:6b5f2340-54a9-41c5-b287-172394cc3bf3
DTSTART;VALUE=DATE:20250918
DESCRIPTION:Property ID# 596584\, Locatoin: Harcourts Wellington City 57 Vi
 vian Street\, Te Aro\, Wellington\, 6011\, Time: 10:30AM
SUMMARY:Auction for 
END:VEVENT
END:VCALENDAR
