BEGIN:VCALENDAR
VERSION:2.0
PRODID:icalendar-ruby
CALSCALE:GREGORIAN
BEGIN:VEVENT
DTSTAMP:20260424T103654Z
UID:6d875807-cb78-40f7-8c79-d8ff1d354229
DTSTART;VALUE=DATE:20250612
DESCRIPTION:Property ID# 592802\, Locatoin: 8 Kent Terrace\, Wellington\, T
 ime: 12:00PM
SUMMARY:Auction for 
END:VEVENT
END:VCALENDAR
