BEGIN:VCALENDAR
VERSION:2.0
PRODID:icalendar-ruby
CALSCALE:GREGORIAN
BEGIN:VEVENT
DTSTAMP:20260424T084205Z
UID:3165ad94-687e-4540-a4b7-9adc38939a88
DTSTART;VALUE=DATE:20250328
DESCRIPTION:Property ID# 589008\, Locatoin: 1/77 Thorndon Quay\, Wellington
 \, Time: 11:00AM
SUMMARY:Auction for 
END:VEVENT
END:VCALENDAR
