BEGIN:VCALENDAR
VERSION:2.0
PRODID:icalendar-ruby
CALSCALE:GREGORIAN
BEGIN:VEVENT
DTSTAMP:20260422T063640Z
UID:8dd18a5b-4f29-416a-95ba-266617a147a5
DTSTART;VALUE=DATE:20241121
DESCRIPTION:Property ID# 583496\, Locatoin: 1/77 Thorndon Quay\, Wellington
 \, Time: 12:00PM
SUMMARY:Auction for 
END:VEVENT
END:VCALENDAR
