BEGIN:VCALENDAR
VERSION:2.0
PRODID:icalendar-ruby
CALSCALE:GREGORIAN
BEGIN:VEVENT
DTSTAMP:20260420T100708Z
UID:6081f3e4-5085-479b-89f3-a3b93544422f
DTSTART;VALUE=DATE:20241114
DESCRIPTION:Property ID# 583248\, Locatoin: 8 Kent Terrace\, Wellington\, T
 ime: 1:00PM
SUMMARY:Auction for 
END:VEVENT
END:VCALENDAR
