BEGIN:VCALENDAR
VERSION:2.0
PRODID:icalendar-ruby
CALSCALE:GREGORIAN
BEGIN:VEVENT
DTSTAMP:20260422T104820Z
UID:543d10e3-2a3e-4525-8da3-6f079d96dec8
DTSTART;VALUE=DATE:20240530
DESCRIPTION:Property ID# 575670\, Time: 1:00PM
SUMMARY:Auction for 
END:VEVENT
END:VCALENDAR
