BEGIN:VCALENDAR
VERSION:2.0
PRODID:icalendar-ruby
CALSCALE:GREGORIAN
BEGIN:VEVENT
DTSTAMP:20260422T064247Z
UID:4c600e76-ac6a-4d9b-ab11-23b48a7a51f5
DTSTART;VALUE=DATE:20240424
DESCRIPTION:Property ID# 572485\, Locatoin: 1/77 Thorndon Quay\, Wellington
 \, Time: 12:00PM
SUMMARY:Auction for 
END:VEVENT
END:VCALENDAR
