BEGIN:VCALENDAR
VERSION:2.0
PRODID:icalendar-ruby
CALSCALE:GREGORIAN
BEGIN:VEVENT
DTSTAMP:20260426T001724Z
UID:4773d7e7-a23e-4318-80c4-95cca11f9472
DTSTART;VALUE=DATE:20230202
DESCRIPTION:Property ID# 550437\, Time: 12:00PM
SUMMARY:Auction for 
END:VEVENT
END:VCALENDAR
