BEGIN:VCALENDAR
VERSION:2.0
PRODID:icalendar-ruby
CALSCALE:GREGORIAN
BEGIN:VEVENT
DTSTAMP:20260421T091409Z
UID:eedc0cef-4fb8-46a1-9ed9-495f59dad177
DTSTART;VALUE=DATE:20221214
DESCRIPTION:Property ID# 546452\, Locatoin: Harcourts 7 Dolly Varden Cres\,
  Mana586\, Time: 12:00PM
SUMMARY:Auction for 
END:VEVENT
END:VCALENDAR
