BEGIN:VCALENDAR
VERSION:2.0
PRODID:icalendar-ruby
CALSCALE:GREGORIAN
BEGIN:VEVENT
DTSTAMP:20260421T103216Z
UID:4d04afaf-e74d-4c82-bf55-e488faa6d82f
DTSTART;VALUE=DATE:20221026
DESCRIPTION:Property ID# 544604\, Locatoin: Harcourts Wellington City Offic
 e (unless sold prior)\, Time: 12:00PM
SUMMARY:Auction for 
END:VEVENT
END:VCALENDAR
