BEGIN:VCALENDAR
VERSION:2.0
PRODID:icalendar-ruby
CALSCALE:GREGORIAN
BEGIN:VEVENT
DTSTAMP:20260420T085202Z
UID:2ba1313e-28a2-4877-a87c-19202b8479bc
DTSTART;VALUE=DATE:20220728
DESCRIPTION:Property ID# 539878\, Locatoin: 8 Kent Terrace\, Wellington\, T
 ime: 12:00PM
SUMMARY:Auction for 
END:VEVENT
END:VCALENDAR
