BEGIN:VCALENDAR
VERSION:2.0
PRODID:icalendar-ruby
CALSCALE:GREGORIAN
BEGIN:VEVENT
DTSTAMP:20260426T004021Z
UID:3628bc70-6150-4e0c-92ce-0c353e28247e
DTSTART;VALUE=DATE:20220308
DESCRIPTION:Property ID# 529260\, Locatoin: 30 Bay Road\, Kilbirnie\, Time:
  12:00PM
SUMMARY:Auction for 
END:VEVENT
END:VCALENDAR
