BEGIN:VCALENDAR
VERSION:2.0
PRODID:icalendar-ruby
CALSCALE:GREGORIAN
BEGIN:VEVENT
DTSTAMP:20260425T211431Z
UID:05581815-4f41-4d65-bf46-58ebef6e0646
DTSTART;VALUE=DATE:20211210
DESCRIPTION:Property ID# 523646\, Locatoin: 30 Bay Road\, Kilbirnie\, Time:
  11:00AM
SUMMARY:Auction for 
END:VEVENT
END:VCALENDAR
