BEGIN:VCALENDAR
VERSION:2.0
PRODID:icalendar-ruby
CALSCALE:GREGORIAN
BEGIN:VEVENT
DTSTAMP:20260426T002153Z
UID:857aa6e3-8891-4196-bade-8336da9dff05
DTSTART;VALUE=DATE:20211125
DESCRIPTION:Property ID# 522060\, Locatoin: 30 Bay Road\, Kilbirnie\, Time:
  12:00PM
SUMMARY:Auction for 
END:VEVENT
END:VCALENDAR
