BEGIN:VCALENDAR
VERSION:2.0
PRODID:icalendar-ruby
CALSCALE:GREGORIAN
BEGIN:VEVENT
DTSTAMP:20260426T001713Z
UID:6512c7a9-15a5-4fdc-bad3-10a373ef2ae1
DTSTART;VALUE=DATE:20211110
DESCRIPTION:Property ID# 520147\, Locatoin: 30 Bay Road\, Kilbirnie\, Time:
  12:00PM
SUMMARY:Auction for 
END:VEVENT
END:VCALENDAR
