BEGIN:VCALENDAR
VERSION:2.0
PRODID:icalendar-ruby
CALSCALE:GREGORIAN
BEGIN:VEVENT
DTSTAMP:20260426T003845Z
UID:96b72f2e-9aeb-416b-9c64-a62d2145e86f
DTSTART;VALUE=DATE:20211020
DESCRIPTION:Property ID# 518336\, Locatoin: 30 Bay Road\, Kilbirnie\, Time:
  12:00PM
SUMMARY:Auction for 
END:VEVENT
END:VCALENDAR
