BEGIN:VCALENDAR
VERSION:2.0
PRODID:icalendar-ruby
CALSCALE:GREGORIAN
BEGIN:VEVENT
DTSTAMP:20260426T003304Z
UID:cdd1721e-213f-4f9f-8689-b9251c0a5fb8
DTSTART;VALUE=DATE:20211007
DESCRIPTION:Property ID# 517216\, Locatoin:  30 Bay Road\, Kilbirnie\, Time
 : 12:00PM
SUMMARY:Auction for 
END:VEVENT
END:VCALENDAR
