BEGIN:VCALENDAR
VERSION:2.0
PRODID:icalendar-ruby
CALSCALE:GREGORIAN
BEGIN:VEVENT
DTSTAMP:20260426T001837Z
UID:e8c6c7e9-d5da-4aa8-840c-8c294983a20b
DTSTART;VALUE=DATE:20210929
DESCRIPTION:Property ID# 516610\, Locatoin: 30 Bay Road\, Kilbirnie\, Time:
  12:00PM
SUMMARY:Auction for 
END:VEVENT
END:VCALENDAR
