BEGIN:VCALENDAR
VERSION:2.0
PRODID:icalendar-ruby
CALSCALE:GREGORIAN
BEGIN:VEVENT
DTSTAMP:20260426T003420Z
UID:f5cbd5d1-04db-44f2-b9e7-c263cf517fe4
DTSTART;VALUE=DATE:20210916
DESCRIPTION:Property ID# 515866\, Locatoin: 30 Bay Road\, Kilbirnie\, Time:
  12:00PM
SUMMARY:Auction for 
END:VEVENT
END:VCALENDAR
