BEGIN:VCALENDAR
VERSION:2.0
PRODID:icalendar-ruby
CALSCALE:GREGORIAN
BEGIN:VEVENT
DTSTAMP:20260426T001908Z
UID:273637eb-7d69-4b60-8fc3-b8e13e1f9f8b
DTSTART;VALUE=DATE:20210901
DESCRIPTION:Property ID# 515440\, Locatoin: 30 Bay Road\, Kilbirnie\, Time:
  12:00PM
SUMMARY:Auction for 
END:VEVENT
END:VCALENDAR
