BEGIN:VCALENDAR
VERSION:2.0
PRODID:icalendar-ruby
CALSCALE:GREGORIAN
BEGIN:VEVENT
DTSTAMP:20260426T003625Z
UID:65474fdb-9522-4140-b3eb-15fbf0bcc46a
DTSTART;VALUE=DATE:20210630
DESCRIPTION:Property ID# 512306\, Locatoin: 30 Bay Road\, Kilbirnie\, Time:
  12:00PM
SUMMARY:Auction for 
END:VEVENT
END:VCALENDAR
