BEGIN:VCALENDAR
VERSION:2.0
PRODID:icalendar-ruby
CALSCALE:GREGORIAN
BEGIN:VEVENT
DTSTAMP:20260424T104526Z
UID:8a24a224-82f6-44c5-8735-039faa3605b6
DTSTART;VALUE=DATE:20210706
DESCRIPTION:Property ID# 512305\, Time: 12:00PM
SUMMARY:Auction for 
END:VEVENT
END:VCALENDAR
