BEGIN:VCALENDAR
VERSION:2.0
PRODID:icalendar-ruby
CALSCALE:GREGORIAN
BEGIN:VEVENT
DTSTAMP:20260426T003625Z
UID:fe4c3e51-bbdc-4073-bf77-0fd02674db45
DTSTART;VALUE=DATE:20210610
DESCRIPTION:Property ID# 510372\, Locatoin: 12 noon Thursday 10th of June a
 t 30 Bay Road\, Kilbirnie\, Time: 12:00PM
SUMMARY:Auction for 
END:VEVENT
END:VCALENDAR
