BEGIN:VCALENDAR
VERSION:2.0
PRODID:icalendar-ruby
CALSCALE:GREGORIAN
BEGIN:VEVENT
DTSTAMP:20260426T003420Z
UID:db2484f4-78b4-4019-8a04-87cc62f3a9a0
DTSTART;VALUE=DATE:20210429
DESCRIPTION:Property ID# 507517\, Locatoin: 30 Bay Road\, Kilbirnie\, Time:
  12:00PM
SUMMARY:Auction for 
END:VEVENT
END:VCALENDAR
