BEGIN:VCALENDAR
VERSION:2.0
PRODID:icalendar-ruby
CALSCALE:GREGORIAN
BEGIN:VEVENT
DTSTAMP:20260426T003845Z
UID:f2e0b80d-fc83-4f6c-8e3e-12d9ddec03da
DTSTART;VALUE=DATE:20210428
DESCRIPTION:Property ID# 507516\, Locatoin: 30 Bay Road\, Kilbirnie\, Time:
  12:00PM
SUMMARY:Auction for 
END:VEVENT
END:VCALENDAR
