BEGIN:VCALENDAR
VERSION:2.0
PRODID:icalendar-ruby
CALSCALE:GREGORIAN
BEGIN:VEVENT
DTSTAMP:20260426T003931Z
UID:7f61e81a-f842-4689-849c-8d4d7533e841
DTSTART;VALUE=DATE:20210421
DESCRIPTION:Property ID# 504949\, Locatoin: 30 Bay Road\, Kilbirnie\, Time:
  12:00PM
SUMMARY:Auction for 
END:VEVENT
END:VCALENDAR
