BEGIN:VCALENDAR
VERSION:2.0
PRODID:icalendar-ruby
CALSCALE:GREGORIAN
BEGIN:VEVENT
DTSTAMP:20260426T003304Z
UID:c93ca844-055b-4f82-9d77-5dcfc31b5626
DTSTART;VALUE=DATE:20210325
DESCRIPTION:Property ID# 503724\, Locatoin: 30 Bay Road\, Kilbirnie\, Time:
  12:00PM
SUMMARY:Auction for 
END:VEVENT
END:VCALENDAR
