BEGIN:VCALENDAR
VERSION:2.0
PRODID:icalendar-ruby
CALSCALE:GREGORIAN
BEGIN:VEVENT
DTSTAMP:20260424T170430Z
UID:6270a933-6d71-46ff-b03b-6a6408742613
DTSTART;VALUE=DATE:20200923
DESCRIPTION:Property ID# 488757\, Locatoin: Ray White Johnsonville\, 20 Moo
 refield Road\, Time: 1:00PM
SUMMARY:Auction for 
END:VEVENT
END:VCALENDAR
