BEGIN:VCALENDAR
VERSION:2.0
PRODID:icalendar-ruby
CALSCALE:GREGORIAN
BEGIN:VEVENT
DTSTAMP:20260424T085404Z
UID:1c191b38-508d-4dc4-a380-8fa5716518fc
DTSTART;VALUE=DATE:20200827
DESCRIPTION:Property ID# 486459\, Locatoin: 77 Thorndon Quay\, Pipitea\, We
 llington\, Time: 2:00PM
SUMMARY:Auction for 
END:VEVENT
END:VCALENDAR
