BEGIN:VCALENDAR
VERSION:2.0
PRODID:icalendar-ruby
CALSCALE:GREGORIAN
BEGIN:VEVENT
DTSTAMP:20260422T190047Z
UID:30edb409-29ab-4885-9820-6b61d65ae2a7
DTSTART;VALUE=DATE:20190918
DESCRIPTION:Property ID# 460792\, Time: 1:00PM
SUMMARY:Auction for 
END:VEVENT
END:VCALENDAR
