BEGIN:VCALENDAR
VERSION:2.0
PRODID:icalendar-ruby
CALSCALE:GREGORIAN
BEGIN:VEVENT
DTSTAMP:20210122T031711Z
UID:8cd42ac7-3884-4e6c-8b6d-a1321908580a
DTSTART;TZID=Pacific/Auckland:20210124T121500
DTEND;TZID=Pacific/Auckland:20210124T124500
DESCRIPTION:Property ID# 500319
SUMMARY:Openhome for 5/23 Glenbervie Terrace
END:VEVENT
END:VCALENDAR
