BEGIN:VCALENDAR
VERSION:2.0
PRODID:icalendar-ruby
CALSCALE:GREGORIAN
BEGIN:VEVENT
DTSTAMP:20210122T031729Z
UID:c796f69a-655f-465e-9ba2-2a43e107081b
DTSTART;VALUE=DATE:20210203
DESCRIPTION:Property ID# 500035\, Locatoin: 8 Kent Terrace\, Wellington\, T
 ime: 12:00PM
SUMMARY:Auction for 10 Ramphal Terrace
END:VEVENT
END:VCALENDAR
