BEGIN:VCALENDAR
VERSION:2.0
PRODID:icalendar-ruby
CALSCALE:GREGORIAN
BEGIN:VEVENT
DTSTAMP:20210122T031723Z
UID:7f0278ee-b4e0-4206-9f58-ca89d61074ec
DTSTART;VALUE=DATE:20210210
DESCRIPTION:Property ID# 499927\, Locatoin: 8 Kent Terrace\, Wellington\, T
 ime: 12:00PM
SUMMARY:Auction for 10 Clive Road
END:VEVENT
END:VCALENDAR
