BEGIN:VCALENDAR
VERSION:2.0
PRODID:icalendar-ruby
CALSCALE:GREGORIAN
BEGIN:VEVENT
DTSTAMP:20210122T031750Z
UID:beb8f1d9-6b28-44f0-9ea1-63837cd49b58
DTSTART;VALUE=DATE:20210128
DESCRIPTION:Property ID# 499635\, Time: 1:00PM
SUMMARY:Auction for 6J/164 The Terrace
END:VEVENT
END:VCALENDAR
