BEGIN:VCALENDAR
VERSION:2.0
PRODID:icalendar-ruby
CALSCALE:GREGORIAN
BEGIN:VEVENT
DTSTAMP:20210122T031730Z
UID:4569780a-5abb-4972-89fb-a19216084d5b
DTSTART;VALUE=DATE:20210128
DESCRIPTION:Property ID# 499031\, Locatoin: Ray White Wellington City Offic
 e\, Level 1 77 Thorndon Quay\, Time: 12:00PM
SUMMARY:Auction for 85 Ngaio Gorge Road
END:VEVENT
END:VCALENDAR
