BEGIN:VCALENDAR
VERSION:2.0
PRODID:icalendar-ruby
CALSCALE:GREGORIAN
BEGIN:VEVENT
DTSTAMP:20210122T031742Z
UID:eef6e1b7-1d0f-428f-9624-e0fa4feb2137
DTSTART;VALUE=DATE:20210204
DESCRIPTION:Property ID# 498714\, Locatoin: Tenders to be submitted by emai
 l or directly to our office at Level 6\, 36 Brandon St.\, Time: 12:00PM
SUMMARY:Auction for 4 Durham Crescent
END:VEVENT
END:VCALENDAR
