BEGIN:VCALENDAR
VERSION:2.0
PRODID:icalendar-ruby
CALSCALE:GREGORIAN
BEGIN:VEVENT
DTSTAMP:20210122T031800Z
UID:1497aed0-290d-4eff-b621-b41f263e8232
DTSTART;VALUE=DATE:20201217
DESCRIPTION:Property ID# 497669\, Time: 1:00PM
SUMMARY:Auction for 40a Cashmere Avenue
END:VEVENT
END:VCALENDAR
