BEGIN:VCALENDAR
VERSION:2.0
PRODID:icalendar-ruby
CALSCALE:GREGORIAN
BEGIN:VEVENT
DTSTAMP:20210122T033028Z
UID:fd65f26e-982b-4e4e-af5f-83711cf33fb8
DTSTART;VALUE=DATE:20210121
DESCRIPTION:Property ID# 497215\, Locatoin: Ray White Office\, L1/77 Thornd
 on Quay\, Thorndon\, Wellington.\, Time: 2:00PM
SUMMARY:Auction for 
END:VEVENT
END:VCALENDAR
