BEGIN:VCALENDAR
VERSION:2.0
PRODID:icalendar-ruby
CALSCALE:GREGORIAN
BEGIN:VEVENT
DTSTAMP:20210122T033039Z
UID:a424ca96-9706-4c08-b651-e1ff5915f4ed
DTSTART;VALUE=DATE:20201214
DESCRIPTION:Property ID# 496931\, Locatoin: 8 Kent Terrace\, Wellington\, T
 ime: 1:00PM
SUMMARY:Auction for 
END:VEVENT
END:VCALENDAR
