BEGIN:VCALENDAR
VERSION:2.0
PRODID:icalendar-ruby
CALSCALE:GREGORIAN
BEGIN:VEVENT
DTSTAMP:20210122T033102Z
UID:7097222a-fb59-4762-887f-22d5d0fe2f22
DTSTART;VALUE=DATE:20201215
DESCRIPTION:Property ID# 496784\, Locatoin: 8 Kent Terrace\, Wellington\, T
 ime: 12:00PM
SUMMARY:Auction for 
END:VEVENT
END:VCALENDAR
