BEGIN:VCALENDAR
VERSION:2.0
PRODID:icalendar-ruby
CALSCALE:GREGORIAN
BEGIN:VEVENT
DTSTAMP:20210122T033104Z
UID:e9c75795-aa01-4403-a319-246525fc5998
DTSTART;VALUE=DATE:20201209
DESCRIPTION:Property ID# 495946\, Locatoin: 8 Kent Terrace\, Wellington\, T
 ime: 12:00PM
SUMMARY:Auction for 
END:VEVENT
END:VCALENDAR
