BEGIN:VCALENDAR
VERSION:2.0
PRODID:icalendar-ruby
CALSCALE:GREGORIAN
BEGIN:VEVENT
DTSTAMP:20210122T033040Z
UID:6650cade-f35a-4b54-a4d9-46b744ed2dce
DTSTART;VALUE=DATE:20201203
DESCRIPTION:Property ID# 495409\, Locatoin: 8 Kent Terrace\, Wellington\, T
 ime: 1:00PM
SUMMARY:Auction for 
END:VEVENT
END:VCALENDAR
