BEGIN:VCALENDAR
VERSION:2.0
PRODID:icalendar-ruby
CALSCALE:GREGORIAN
BEGIN:VEVENT
DTSTAMP:20210122T033041Z
UID:3b2b2394-9068-4b51-a1c9-de2e03853b98
DTSTART;VALUE=DATE:20201119
DESCRIPTION:Property ID# 494713\, Locatoin: 8 Kent Terrace\, Wellington\, T
 ime: 1:00PM
SUMMARY:Auction for 
END:VEVENT
END:VCALENDAR
